BEGIN:VCALENDAR
VERSION:2.0
PRODID:-//Ricky Ian Gordon - ECPv6.15.20//NONSGML v1.0//EN
CALSCALE:GREGORIAN
METHOD:PUBLISH
X-WR-CALNAME:Ricky Ian Gordon
X-ORIGINAL-URL:https://rickyiangordon.com
X-WR-CALDESC:Events for Ricky Ian Gordon
REFRESH-INTERVAL;VALUE=DURATION:PT1H
X-Robots-Tag:noindex
X-PUBLISHED-TTL:PT1H
BEGIN:VTIMEZONE
TZID:UTC
BEGIN:STANDARD
TZOFFSETFROM:+0000
TZOFFSETTO:+0000
TZNAME:UTC
DTSTART:20180101T000000
END:STANDARD
END:VTIMEZONE
BEGIN:VEVENT
DTSTART;TZID=UTC:20190706T140000
DTEND;TZID=UTC:20190706T170000
DTSTAMP:20260423T210256
CREATED:20181219T094716Z
LAST-MODIFIED:20181219T094716Z
UID:1950-1562421600-1562432400@rickyiangordon.com
SUMMARY:Ellen West @ Opera Saratoga
DESCRIPTION:Ellen West – World Premiere (2019)\nMusic by Ricky Ian Gordon; Libretto by Frank Bidart\nCommissioned by Opera Saratoga\, Lawrence Edelson\, Artistic & General Director;\nand Beth Morrison Projects \nPerformance Dates: Sunday\, June 30 @ 2:00pm; Saturday\, July 6 @ 2:00pm; Friday\, July 12 @ 7:30pm \nConductor: Lidiya Yankovskaya\nDirector: Emma Griffin (debut)\nFeaturing: Jennifer Zetlan (debut) and Keith Phares \n2019 OPERA PRODUCTIONS \nALL OPERA PERFORMANCES TAKE PLACE AT THE SPA LITTLE THEATER\nSARATOGA SPRINGS\, NY\nOpera Tickets: $95 / $72.50 / $50\nSubscriptions: Discount Packages Available
URL:https://rickyiangordon.com/event/ellen-west-opera-saratoga-2/
LOCATION:Spa Little Theater\, 19 Roosevelt Drive\, Saratoga\, NY\, 12866\, United States
END:VEVENT
BEGIN:VEVENT
DTSTART;TZID=UTC:20190712T140000
DTEND;TZID=UTC:20190712T170000
DTSTAMP:20260423T210256
CREATED:20181219T094724Z
LAST-MODIFIED:20181219T094724Z
UID:1951-1562940000-1562950800@rickyiangordon.com
SUMMARY:Ellen West @ Opera Saratoga
DESCRIPTION:Ellen West – World Premiere (2019)\nMusic by Ricky Ian Gordon; Libretto by Frank Bidart\nCommissioned by Opera Saratoga\, Lawrence Edelson\, Artistic & General Director;\nand Beth Morrison Projects \nPerformance Dates: Sunday\, June 30 @ 2:00pm; Saturday\, July 6 @ 2:00pm; Friday\, July 12 @ 7:30pm \nConductor: Lidiya Yankovskaya\nDirector: Emma Griffin (debut)\nFeaturing: Jennifer Zetlan (debut) and Keith Phares \n2019 OPERA PRODUCTIONS \nALL OPERA PERFORMANCES TAKE PLACE AT THE SPA LITTLE THEATER\nSARATOGA SPRINGS\, NY\nOpera Tickets: $95 / $72.50 / $50\nSubscriptions: Discount Packages Available
URL:https://rickyiangordon.com/event/ellen-west-opera-saratoga-3/
LOCATION:Spa Little Theater\, 19 Roosevelt Drive\, Saratoga\, NY\, 12866\, United States
END:VEVENT
BEGIN:VEVENT
DTSTART;TZID=UTC:20190712T193000
DTEND;TZID=UTC:20190712T213000
DTSTAMP:20260423T210256
CREATED:20190718T224953Z
LAST-MODIFIED:20190718T225000Z
UID:2159-1562959800-1562967000@rickyiangordon.com
SUMMARY:Green Sneakers @ Crested Butte Music Festival
DESCRIPTION:Baritone Michael Kelly and the Voxare Quartet perform Ricky’s Green Sneakers for the Crested Butte Music Festival. \nFriday\, July 12\, 2019\n7:30 PM\nCenter for the Arts\nCrested Butte\, CO
URL:https://rickyiangordon.com/event/green-sneakers-crested-butte-music-festival/
LOCATION:Center for the Arts\, Crested Butte\, 606 6th St.\, Crested Butte\, CO\, 81224\, United States
END:VEVENT
END:VCALENDAR