BEGIN:VCALENDAR
VERSION:2.0
PRODID:-//Ricky Ian Gordon - ECPv6.15.20//NONSGML v1.0//EN
CALSCALE:GREGORIAN
METHOD:PUBLISH
X-WR-CALNAME:Ricky Ian Gordon
X-ORIGINAL-URL:https://rickyiangordon.com
X-WR-CALDESC:Events for Ricky Ian Gordon
REFRESH-INTERVAL;VALUE=DURATION:PT1H
X-Robots-Tag:noindex
X-PUBLISHED-TTL:PT1H
BEGIN:VTIMEZONE
TZID:UTC
BEGIN:STANDARD
TZOFFSETFROM:+0000
TZOFFSETTO:+0000
TZNAME:UTC
DTSTART:20180101T000000
END:STANDARD
END:VTIMEZONE
BEGIN:VEVENT
DTSTART;TZID=UTC:20190301T200000
DTEND;TZID=UTC:20190301T213000
DTSTAMP:20260424T023527
CREATED:20181212T030720Z
LAST-MODIFIED:20181212T030720Z
UID:1578-1551470400-1551475800@rickyiangordon.com
SUMMARY:Night Songs and Love Waltzes
DESCRIPTION:Night Songs and Love Waltzes\nMarch 1\, 2019 at 8:00PM\nAlice Tully Hall\, Lincoln Center \nMasterVoices | Ted Sperling\, Conductor \nThis evening of songs and piano works will feature the music of such influential Romantic era composers as Felix and Fanny Mendelssohn\, Clara and Robert Schumann\, Franz Schubert\, and Johannes Brahms\, as well as today’s Ricky Ian Gordon and Stephen Sondheim\, and the poetry that inspired them. With soloists including soprano Nicole Cabell\, alto/mezzo Kate Aldrich\, tenor Nicolas Phan\, baritone Nmon Ford\, and duo pianists Anderson & Roe\, Night Songs and Love Waltzes will display multiple configurations from vocal solos\, duets\, trios\, and quartets; men’s chorus\, women’s chorus\, and the full MasterVoices chorus; and arrangements featuring four horns and duo pianists. \nTickets for Night Songs & Love Waltzes will be available starting on December 10th.  MasterVoices Members save 15% on tickets and have pre-sale access beginning December 3. \nTickets may be purchased online at lincolncenter.org\, by calling 212.721.6500\, or in person at the Alice Tully Hall Box Office at 1941 Broadway (Mon-Sat 10am-6pm\, Sun 12pm-6pm).
URL:https://rickyiangordon.com/event/night-songs-and-love-waltzes/
LOCATION:Alice Tully Hall\, 1941 Broadway\, New York\, NY\, 10023\, United States
END:VEVENT
BEGIN:VEVENT
DTSTART;TZID=UTC:20190323T183000
DTEND;TZID=UTC:20190323T210000
DTSTAMP:20260424T023527
CREATED:20180717T222924Z
LAST-MODIFIED:20180717T222924Z
UID:1496-1553365800-1553374800@rickyiangordon.com
SUMMARY:27 @ Opéra de Montreal
DESCRIPTION:In March 2019\, the chamber opera\, Twenty-seven by Ricky Ian Gordon & Royce Vavrek will be presented by the Artists of the Atelier lyrique de l’Opéra de Montréal\, directed by Oriol Tomas. On piano will be Marie-Ève Scarfone\, and on cello will be Stéphane Tétreault.
URL:https://rickyiangordon.com/event/27-opera-de-montreal/
LOCATION:Théâtre Centaur\, 453 St. François-Xavier\, Montreal\, Quebec\, H2Y 2T1\, Canada
END:VEVENT
BEGIN:VEVENT
DTSTART;TZID=UTC:20190324T130000
DTEND;TZID=UTC:20190324T150000
DTSTAMP:20260424T023527
CREATED:20180717T223023Z
LAST-MODIFIED:20180717T223023Z
UID:1503-1553432400-1553439600@rickyiangordon.com
SUMMARY:27 @ Opéra de Montreal
DESCRIPTION:In March 2019\, the chamber opera\, Twenty-seven by Ricky Ian Gordon & Royce Vavrek will be presented by the Artists of the Atelier lyrique de l’Opéra de Montréal\, directed by Oriol Tomas. On piano will be Marie-Ève Scarfone\, and on cello will be Stéphane Tétreault.
URL:https://rickyiangordon.com/event/27-opera-de-montreal-2/
LOCATION:Théâtre Centaur\, 453 St. François-Xavier\, Montreal\, Quebec\, H2Y 2T1\, Canada
END:VEVENT
BEGIN:VEVENT
DTSTART;TZID=UTC:20190326T183000
DTEND;TZID=UTC:20190326T210000
DTSTAMP:20260424T023527
CREATED:20180717T223058Z
LAST-MODIFIED:20180717T223058Z
UID:1505-1553625000-1553634000@rickyiangordon.com
SUMMARY:27 @ Opéra de Montreal
DESCRIPTION:In March 2019\, the chamber opera\, Twenty-seven by Ricky Ian Gordon & Royce Vavrek will be presented by the Artists of the Atelier lyrique de l’Opéra de Montréal\, directed by Oriol Tomas. On piano will be Marie-Ève Scarfone\, and on cello will be Stéphane Tétreault.
URL:https://rickyiangordon.com/event/27-opera-de-montreal-3/
LOCATION:Théâtre Centaur\, 453 St. François-Xavier\, Montreal\, Quebec\, H2Y 2T1\, Canada
END:VEVENT
BEGIN:VEVENT
DTSTART;TZID=UTC:20190328T183000
DTEND;TZID=UTC:20190328T210000
DTSTAMP:20260424T023527
CREATED:20180717T223102Z
LAST-MODIFIED:20180717T223102Z
UID:1506-1553797800-1553806800@rickyiangordon.com
SUMMARY:27 @ Opéra de Montreal
DESCRIPTION:In March 2019\, the chamber opera\, Twenty-seven by Ricky Ian Gordon & Royce Vavrek will be presented by the Artists of the Atelier lyrique de l’Opéra de Montréal\, directed by Oriol Tomas. On piano will be Marie-Ève Scarfone\, and on cello will be Stéphane Tétreault.
URL:https://rickyiangordon.com/event/27-opera-de-montreal-4/
LOCATION:Théâtre Centaur\, 453 St. François-Xavier\, Montreal\, Quebec\, H2Y 2T1\, Canada
END:VEVENT
BEGIN:VEVENT
DTSTART;TZID=UTC:20190330T183000
DTEND;TZID=UTC:20190330T210000
DTSTAMP:20260424T023527
CREATED:20180717T223109Z
LAST-MODIFIED:20180717T223109Z
UID:1507-1553970600-1553979600@rickyiangordon.com
SUMMARY:27 @ Opéra de Montreal
DESCRIPTION:In March 2019\, the chamber opera\, Twenty-seven by Ricky Ian Gordon & Royce Vavrek will be presented by the Artists of the Atelier lyrique de l’Opéra de Montréal\, directed by Oriol Tomas. On piano will be Marie-Ève Scarfone\, and on cello will be Stéphane Tétreault.
URL:https://rickyiangordon.com/event/27-opera-de-montreal-5/
LOCATION:Théâtre Centaur\, 453 St. François-Xavier\, Montreal\, Quebec\, H2Y 2T1\, Canada
END:VEVENT
BEGIN:VEVENT
DTSTART;TZID=UTC:20190331T130000
DTEND;TZID=UTC:20190331T150000
DTSTAMP:20260424T023527
CREATED:20180717T223119Z
LAST-MODIFIED:20180717T223119Z
UID:1508-1554037200-1554044400@rickyiangordon.com
SUMMARY:27 @ Opéra de Montreal
DESCRIPTION:In March 2019\, the chamber opera\, Twenty-seven by Ricky Ian Gordon & Royce Vavrek will be presented by the Artists of the Atelier lyrique de l’Opéra de Montréal\, directed by Oriol Tomas. On piano will be Marie-Ève Scarfone\, and on cello will be Stéphane Tétreault.
URL:https://rickyiangordon.com/event/27-opera-de-montreal-6/
LOCATION:Théâtre Centaur\, 453 St. François-Xavier\, Montreal\, Quebec\, H2Y 2T1\, Canada
END:VEVENT
END:VCALENDAR