BEGIN:VCALENDAR
VERSION:2.0
PRODID:-//Ricky Ian Gordon - ECPv6.15.20//NONSGML v1.0//EN
CALSCALE:GREGORIAN
METHOD:PUBLISH
X-WR-CALNAME:Ricky Ian Gordon
X-ORIGINAL-URL:https://rickyiangordon.com
X-WR-CALDESC:Events for Ricky Ian Gordon
REFRESH-INTERVAL;VALUE=DURATION:PT1H
X-Robots-Tag:noindex
X-PUBLISHED-TTL:PT1H
BEGIN:VTIMEZONE
TZID:UTC
BEGIN:STANDARD
TZOFFSETFROM:+0000
TZOFFSETTO:+0000
TZNAME:UTC
DTSTART:20170101T000000
END:STANDARD
END:VTIMEZONE
BEGIN:VEVENT
DTSTART;VALUE=DATE:20181202
DTEND;VALUE=DATE:20181203
DTSTAMP:20260424T000540
CREATED:20181212T033941Z
LAST-MODIFIED:20181212T033941Z
UID:1588-1543708800-1543795199@rickyiangordon.com
SUMMARY:A Dream Deferred: Langston Hughes in Song
DESCRIPTION:A Dream Deferred: Langston Hughes in Song\n\nJulia Bullock and Friends\nLangston Hughes’s poems such as “Harlem\,” “Genius Child\,” and “Song for a Dark Girl” are set to music in this recital curated and performed by Julia Bullock\, who is joined by soprano Nicole Cabell (“sheer sumptuous gorgeousness\,” The Mercury News)\, New York Philharmonic Principal Clarinet Anthony McGill (“trademark brilliance\, penetrating sound and rich character\,” The New York Times)\, Jessie Montgomery\, violin\, the Young People’s Chorus of New York City\, as well as pianist/composers Ricky Ian Gordon and John Musto.
URL:https://rickyiangordon.com/event/a-dream-deferred-langston-hughes-in-song/
LOCATION:Grace Rainey Rogers Auditorium\, Metropolitan Museum of Art\, New York\, NY\, United States
END:VEVENT
END:VCALENDAR