BEGIN:VCALENDAR
VERSION:2.0
PRODID:-//Ricky Ian Gordon - ECPv6.15.20//NONSGML v1.0//EN
CALSCALE:GREGORIAN
METHOD:PUBLISH
X-ORIGINAL-URL:https://rickyiangordon.com
X-WR-CALDESC:Events for Ricky Ian Gordon
REFRESH-INTERVAL;VALUE=DURATION:PT1H
X-Robots-Tag:noindex
X-PUBLISHED-TTL:PT1H
BEGIN:VTIMEZONE
TZID:UTC
BEGIN:STANDARD
TZOFFSETFROM:+0000
TZOFFSETTO:+0000
TZNAME:UTC
DTSTART:20170101T000000
END:STANDARD
END:VTIMEZONE
BEGIN:VEVENT
DTSTART;TZID=UTC:20181101T193000
DTEND;TZID=UTC:20181101T210000
DTSTAMP:20260423T211052
CREATED:20180920T225317Z
LAST-MODIFIED:20180920T231314Z
UID:1559-1541100600-1541106000@rickyiangordon.com
SUMMARY:The Tibetan Book of the Dead @ Eastman Opera Theatre
DESCRIPTION:Eastman Opera Theatre\npresents\nThe Tibetan Book of the Dead\nby\nRicky Ian Gordon \nwith a libretto by\nJean-Claude Van Itallie \nNovember 1\, 2018 | 7:30 PM\nKilbourn Hall\nEastman Theatre\nEastman School of Music\n26 Gibbs St.\nRochester\, NY 14604 \nPurchase tickets here »
URL:https://rickyiangordon.com/event/tibetan-book-eastman-1101/
LOCATION:Kilbourn Hall\, 26 Gibbs St\, Rochester\, NY\, 14604\, United States
END:VEVENT
BEGIN:VEVENT
DTSTART;TZID=UTC:20181102T193000
DTEND;TZID=UTC:20181102T210000
DTSTAMP:20260423T211052
CREATED:20180920T231621Z
LAST-MODIFIED:20180920T231621Z
UID:1568-1541187000-1541192400@rickyiangordon.com
SUMMARY:The Tibetan Book of the Dead @ Eastman Opera Theatre
DESCRIPTION:Eastman Opera Theatre\npresents\nThe Tibetan Book of the Dead\nby\nRicky Ian Gordon \nwith a libretto by\nJean-Claude Van Itallie \nNovember 2\, 2018 | 7:30 PM\nKilbourn Hall\nEastman Theatre\nEastman School of Music\n26 Gibbs St.\nRochester\, NY 14604 \nPurchase tickets here »
URL:https://rickyiangordon.com/event/tibetan-book-eastman-1102/
LOCATION:Kilbourn Hall\, 26 Gibbs St\, Rochester\, NY\, 14604\, United States
END:VEVENT
BEGIN:VEVENT
DTSTART;TZID=UTC:20181103T193000
DTEND;TZID=UTC:20181103T210000
DTSTAMP:20260423T211052
CREATED:20180920T231242Z
LAST-MODIFIED:20180920T231457Z
UID:1566-1541273400-1541278800@rickyiangordon.com
SUMMARY:The Tibetan Book of the Dead @ Eastman Opera Theatre
DESCRIPTION:Eastman Opera Theatre\npresents\nThe Tibetan Book of the Dead\nby\nRicky Ian Gordon \nwith a libretto by\nJean-Claude Van Itallie \nNovember 3\, 2018 | 7:30 PM\nKilbourn Hall\nEastman Theatre\nEastman School of Music\n26 Gibbs St.\nRochester\, NY 14604 \nPurchase tickets here »
URL:https://rickyiangordon.com/event/tibetan-book-eastman-1103/
LOCATION:Kilbourn Hall\, 26 Gibbs St\, Rochester\, NY\, 14604\, United States
END:VEVENT
BEGIN:VEVENT
DTSTART;TZID=UTC:20181104T140000
DTEND;TZID=UTC:20181104T160000
DTSTAMP:20260423T211052
CREATED:20180920T231338Z
LAST-MODIFIED:20180920T231706Z
UID:1567-1541340000-1541347200@rickyiangordon.com
SUMMARY:The Tibetan Book of the Dead @ Eastman Opera Theatre
DESCRIPTION:Eastman Opera Theatre\npresents\nThe Tibetan Book of the Dead\nby\nRicky Ian Gordon \nwith a libretto by\nJean-Claude Van Itallie \nNovember 4\, 2018 | 2:00 PM\nKilbourn Hall\nEastman Theatre\nEastman School of Music\n26 Gibbs St.\nRochester\, NY 14604 \nPurchase tickets here »
URL:https://rickyiangordon.com/event/tibetan-book-eastman-1104/
LOCATION:Kilbourn Hall\, 26 Gibbs St\, Rochester\, NY\, 14604\, United States
END:VEVENT
END:VCALENDAR