BEGIN:VCALENDAR
VERSION:2.0
PRODID:-//Ricky Ian Gordon - ECPv6.15.20//NONSGML v1.0//EN
CALSCALE:GREGORIAN
METHOD:PUBLISH
X-WR-CALNAME:Ricky Ian Gordon
X-ORIGINAL-URL:https://rickyiangordon.com
X-WR-CALDESC:Events for Ricky Ian Gordon
REFRESH-INTERVAL;VALUE=DURATION:PT1H
X-Robots-Tag:noindex
X-PUBLISHED-TTL:PT1H
BEGIN:VTIMEZONE
TZID:UTC
BEGIN:STANDARD
TZOFFSETFROM:+0000
TZOFFSETTO:+0000
TZNAME:UTC
DTSTART:20170101T000000
END:STANDARD
END:VTIMEZONE
BEGIN:VEVENT
DTSTART;TZID=UTC:20180302T193000
DTEND;TZID=UTC:20180302T220000
DTSTAMP:20260424T211932
CREATED:20181214T050241Z
LAST-MODIFIED:20181214T050241Z
UID:1912-1520019000-1520028000@rickyiangordon.com
SUMMARY:27 @ Arthur Miller Theatre
DESCRIPTION:Michigan Opera Theatre presents Ricky Ian Gordon’s 27 \nTravel back in time to the inspired gatherings at 27 rue de Fleurus in Paris\, where American expatriates Gertrude Stein and Alice B. Toklas hosted luminaries of art and literature such as Pablo Picasso\, F. Scott Fitzgerald\, Henri Matisse and Ernest Hemingway. The opera explores themes of love\, loss\, change and art set throughout two world wars. Presented in partnership with Macomb Center for the Performing Arts. \nFriday\, March 2 & Saturday\, March 3\, 2018\nArthur Miller Theater \nBriana Elyse Hunter: Gertrude Stein\nMonica Dewey: Alice B. Toklas\nMichael Day: Picasso\, Fitzgerald\nHarry Greenleaf: Leo Stein\, Man Ray\nErik Van Heyningen: Matisse\, Hemingway\nRoberto Kalb: Conductor
URL:https://rickyiangordon.com/event/27-michigan-opera-theatre-3/
LOCATION:Arthur Miller Theatre\, 1226 Murfin Ave\, Ann Arbor\, MI\, 48109\, United States
END:VEVENT
BEGIN:VEVENT
DTSTART;TZID=UTC:20180303T193000
DTEND;TZID=UTC:20180303T220000
DTSTAMP:20260424T211932
CREATED:20181214T050315Z
LAST-MODIFIED:20181214T050315Z
UID:1916-1520105400-1520114400@rickyiangordon.com
SUMMARY:27 @ Arthur Miller Theatre
DESCRIPTION:Michigan Opera Theatre presents Ricky Ian Gordon’s 27 \nTravel back in time to the inspired gatherings at 27 rue de Fleurus in Paris\, where American expatriates Gertrude Stein and Alice B. Toklas hosted luminaries of art and literature such as Pablo Picasso\, F. Scott Fitzgerald\, Henri Matisse and Ernest Hemingway. The opera explores themes of love\, loss\, change and art set throughout two world wars. Presented in partnership with Macomb Center for the Performing Arts. \nFriday\, March 2 & Saturday\, March 3\, 2018\nArthur Miller Theater \nBriana Elyse Hunter: Gertrude Stein\nMonica Dewey: Alice B. Toklas\nMichael Day: Picasso\, Fitzgerald\nHarry Greenleaf: Leo Stein\, Man Ray\nErik Van Heyningen: Matisse\, Hemingway\nRoberto Kalb: Conductor
URL:https://rickyiangordon.com/event/27-michigan-opera-theatre-3-2/
LOCATION:Arthur Miller Theatre\, 1226 Murfin Ave\, Ann Arbor\, MI\, 48109\, United States
END:VEVENT
BEGIN:VEVENT
DTSTART;TZID=UTC:20180310T193000
DTEND;TZID=UTC:20180310T220000
DTSTAMP:20260424T211932
CREATED:20171006T212358Z
LAST-MODIFIED:20171006T212358Z
UID:1306-1520710200-1520719200@rickyiangordon.com
SUMMARY:27 @ Michigan Opera Theatre
DESCRIPTION:Michigan Opera Theatre presents Ricky Ian Gordon’s 27 \nTravel back in time to the inspired gatherings at 27 rue de Fleurus in Paris\, where American expatriates Gertrude Stein and Alice B. Toklas hosted luminaries of art and literature such as Pablo Picasso\, F. Scott Fitzgerald\, Henri Matisse and Ernest Hemingway. The opera explores themes of love\, loss\, change and art set throughout two world wars. Presented in partnership with Macomb Center for the Performing Arts. \nSaturday\, March 10 & Sunday\, March 11\, 2018\nMacomb Center for the Performing Arts \nBriana Elyse Hunter: Gertrude Stein\nMonica Dewey: Alice B. Toklas\nMichael Day: Picasso\, Fitzgerald\nHarry Greenleaf: Leo Stein\, Man Ray\nErik Van Heyningen: Matisse\, Hemingway\nRoberto Kalb: Conductor
URL:https://rickyiangordon.com/event/27-michigan-opera-theatre/
LOCATION:Michigan Opera Theatre\, 1526 Broadway Street\, Detroit\, MI\, 48226\, United States
END:VEVENT
BEGIN:VEVENT
DTSTART;TZID=UTC:20180311T143000
DTEND;TZID=UTC:20180311T170000
DTSTAMP:20260424T211932
CREATED:20171006T212842Z
LAST-MODIFIED:20171006T212926Z
UID:1314-1520778600-1520787600@rickyiangordon.com
SUMMARY:27 @ Michigan Opera Theatre
DESCRIPTION:Michigan Opera Theatre presents Ricky Ian Gordon’s 27 \nTravel back in time to the inspired gatherings at 27 rue de Fleurus in Paris\, where American expatriates Gertrude Stein and Alice B. Toklas hosted luminaries of art and literature such as Pablo Picasso\, F. Scott Fitzgerald\, Henri Matisse and Ernest Hemingway. The opera explores themes of love\, loss\, change and art set throughout two world wars. Presented in partnership with Macomb Center for the Performing Arts. \nSaturday\, March 10 & Sunday\, March 11\, 2018\nMacomb Center for the Performing Arts \nBriana Elyse Hunter: Gertrude Stein\nMonica Dewey: Alice B. Toklas\nMichael Day: Picasso\, Fitzgerald\nHarry Greenleaf: Leo Stein\, Man Ray\nErik Van Heyningen: Matisse\, Hemingway\nRoberto Kalb: Conductor
URL:https://rickyiangordon.com/event/27-michigan-opera-theatre-2/
LOCATION:Michigan Opera Theatre\, 1526 Broadway Street\, Detroit\, MI\, 48226\, United States
END:VEVENT
BEGIN:VEVENT
DTSTART;TZID=UTC:20180321T193000
DTEND;TZID=UTC:20180321T220000
DTSTAMP:20260424T211932
CREATED:20180128T011802Z
LAST-MODIFIED:20180128T012137Z
UID:1428-1521660600-1521669600@rickyiangordon.com
SUMMARY:Morning Star @ On Site Opera
DESCRIPTION:Morning Star tells the story of an immigrant Jewish family struggling to find a better life on the Lower East Side of Manhattan in the early 20th century. The family is deeply impacted by the Triangle Shirtwaist Factory Fire\, the Great Depression\, and World War I and must learn how to adapt to the country’s ever-changing landscape. \nWorld premiere of a newly-commissioned chamber edition of the opera\, supervised by the composer\, with new orchestrations by Tony Award-winning orchestrator Bruce Coughlin.
URL:https://rickyiangordon.com/event/morning-star-on-site-opera-march21-2/
LOCATION:The Museum at Eldridge Street\, 12 Eldridge Street\, New York\, NY\, 10002\, United States
END:VEVENT
BEGIN:VEVENT
DTSTART;TZID=UTC:20180322T193000
DTEND;TZID=UTC:20180322T220000
DTSTAMP:20260424T211932
CREATED:20180128T012209Z
LAST-MODIFIED:20180128T012209Z
UID:1440-1521747000-1521756000@rickyiangordon.com
SUMMARY:Morning Star @ On Site Opera
DESCRIPTION:Morning Star tells the story of an immigrant Jewish family struggling to find a better life on the Lower East Side of Manhattan in the early 20th century. The family is deeply impacted by the Triangle Shirtwaist Factory Fire\, the Great Depression\, and World War I and must learn how to adapt to the country’s ever-changing landscape. \nWorld premiere of a newly-commissioned chamber edition of the opera\, supervised by the composer\, with new orchestrations by Tony Award-winning orchestrator Bruce Coughlin.
URL:https://rickyiangordon.com/event/morning-star-on-site-opera-march22/
LOCATION:The Museum at Eldridge Street\, 12 Eldridge Street\, New York\, NY\, 10002\, United States
END:VEVENT
BEGIN:VEVENT
DTSTART;TZID=UTC:20180325T130000
DTEND;TZID=UTC:20180325T150000
DTSTAMP:20260424T211932
CREATED:20180128T012336Z
LAST-MODIFIED:20180128T012336Z
UID:1444-1521982800-1521990000@rickyiangordon.com
SUMMARY:Morning Star @ On Site Opera
DESCRIPTION:Morning Star tells the story of an immigrant Jewish family struggling to find a better life on the Lower East Side of Manhattan in the early 20th century. The family is deeply impacted by the Triangle Shirtwaist Factory Fire\, the Great Depression\, and World War I and must learn how to adapt to the country’s ever-changing landscape. \nWorld premiere of a newly-commissioned chamber edition of the opera\, supervised by the composer\, with new orchestrations by Tony Award-winning orchestrator Bruce Coughlin.
URL:https://rickyiangordon.com/event/morning-star-on-site-opera-march25-1pm/
LOCATION:The Museum at Eldridge Street\, 12 Eldridge Street\, New York\, NY\, 10002\, United States
END:VEVENT
BEGIN:VEVENT
DTSTART;TZID=UTC:20180325T180000
DTEND;TZID=UTC:20180325T210000
DTSTAMP:20260424T211932
CREATED:20180128T012348Z
LAST-MODIFIED:20180128T012348Z
UID:1445-1522000800-1522011600@rickyiangordon.com
SUMMARY:Morning Star @ On Site Opera
DESCRIPTION:Morning Star tells the story of an immigrant Jewish family struggling to find a better life on the Lower East Side of Manhattan in the early 20th century. The family is deeply impacted by the Triangle Shirtwaist Factory Fire\, the Great Depression\, and World War I and must learn how to adapt to the country’s ever-changing landscape. \nWorld premiere of a newly-commissioned chamber edition of the opera\, supervised by the composer\, with new orchestrations by Tony Award-winning orchestrator Bruce Coughlin.
URL:https://rickyiangordon.com/event/orning-star-on-site-opera-march25-6pm/
LOCATION:The Museum at Eldridge Street\, 12 Eldridge Street\, New York\, NY\, 10002\, United States
END:VEVENT
END:VCALENDAR